BEGIN:VCALENDAR
VERSION:2.0
PRODID:-//KSK Surberg - ECPv6.15.20//NONSGML v1.0//EN
CALSCALE:GREGORIAN
METHOD:PUBLISH
X-ORIGINAL-URL:https://ksk-surberg.de
X-WR-CALDESC:Veranstaltungen für KSK Surberg
REFRESH-INTERVAL;VALUE=DURATION:PT1H
X-Robots-Tag:noindex
X-PUBLISHED-TTL:PT1H
BEGIN:VTIMEZONE
TZID:Europe/Berlin
BEGIN:DAYLIGHT
TZOFFSETFROM:+0100
TZOFFSETTO:+0200
TZNAME:CEST
DTSTART:20240331T010000
END:DAYLIGHT
BEGIN:STANDARD
TZOFFSETFROM:+0200
TZOFFSETTO:+0100
TZNAME:CET
DTSTART:20241027T010000
END:STANDARD
BEGIN:DAYLIGHT
TZOFFSETFROM:+0100
TZOFFSETTO:+0200
TZNAME:CEST
DTSTART:20250330T010000
END:DAYLIGHT
BEGIN:STANDARD
TZOFFSETFROM:+0200
TZOFFSETTO:+0100
TZNAME:CET
DTSTART:20251026T010000
END:STANDARD
BEGIN:DAYLIGHT
TZOFFSETFROM:+0100
TZOFFSETTO:+0200
TZNAME:CEST
DTSTART:20260329T010000
END:DAYLIGHT
BEGIN:STANDARD
TZOFFSETFROM:+0200
TZOFFSETTO:+0100
TZNAME:CET
DTSTART:20261025T010000
END:STANDARD
END:VTIMEZONE
BEGIN:VEVENT
DTSTART;TZID=Europe/Berlin:20250627T183000
DTEND;TZID=Europe/Berlin:20250627T183000
DTSTAMP:20260424T213625
CREATED:20250611T104336Z
LAST-MODIFIED:20250611T105216Z
UID:1188-1751049000-1751049000@ksk-surberg.de
SUMMARY:Dorffest der KSK St. Leonhard am Wonneberg 2025
DESCRIPTION:Die KSK St. Leonhard am Wonneberg hat uns auch dieses Jahr wieder zu ihrem Dorffest am Freitag\, den 27.06.2025 eingeladen. \nBeginn: 18:30 Uhr\nZur Unterhaltung spielt „d‘ Leada Blechmusi“ \nDas Dorffest findet bei jeder Witterung statt.\n(Bei schlechter Witterung im Bürgerhaus.) \nWenn das Wetter passt\, würden einige Kameraden wieder mit dem Radl nach St. Leonhard fahren.\nWenn jemand mitradeln will\, einfach bei Franziska (schrift@ksk-surberg.de) melden\, oder in unsere WhatsApp-Gruppe schau’n. \n» Link zum Plakat
URL:https://ksk-surberg.de/termin/dorffest-der-ksk-st-leonhard-am-wonneberg-2025/
LOCATION:Dorfplatz in St. Leonhard am Wonneberg\, Rupertistraße 1\, St. Leonhard am Wonneberg\, 83379
CATEGORIES:Fest
ATTACH;FMTTYPE=image/png:https://ksk-surberg.de/wp-content/uploads/2025/06/StLeonhard_Dorffest2025.png
END:VEVENT
END:VCALENDAR