BEGIN:VCALENDAR
VERSION:2.0
PRODID:-//KSK Surberg - ECPv6.15.20//NONSGML v1.0//EN
CALSCALE:GREGORIAN
METHOD:PUBLISH
X-WR-CALNAME:KSK Surberg
X-ORIGINAL-URL:https://ksk-surberg.de
X-WR-CALDESC:Veranstaltungen für KSK Surberg
REFRESH-INTERVAL;VALUE=DURATION:PT1H
X-Robots-Tag:noindex
X-PUBLISHED-TTL:PT1H
BEGIN:VTIMEZONE
TZID:Europe/Berlin
BEGIN:DAYLIGHT
TZOFFSETFROM:+0100
TZOFFSETTO:+0200
TZNAME:CEST
DTSTART:20250330T010000
END:DAYLIGHT
BEGIN:STANDARD
TZOFFSETFROM:+0200
TZOFFSETTO:+0100
TZNAME:CET
DTSTART:20251026T010000
END:STANDARD
BEGIN:DAYLIGHT
TZOFFSETFROM:+0100
TZOFFSETTO:+0200
TZNAME:CEST
DTSTART:20260329T010000
END:DAYLIGHT
BEGIN:STANDARD
TZOFFSETFROM:+0200
TZOFFSETTO:+0100
TZNAME:CET
DTSTART:20261025T010000
END:STANDARD
BEGIN:DAYLIGHT
TZOFFSETFROM:+0100
TZOFFSETTO:+0200
TZNAME:CEST
DTSTART:20270328T010000
END:DAYLIGHT
BEGIN:STANDARD
TZOFFSETFROM:+0200
TZOFFSETTO:+0100
TZNAME:CET
DTSTART:20271031T010000
END:STANDARD
END:VTIMEZONE
BEGIN:VEVENT
DTSTART;TZID=Europe/Berlin:20261114T160000
DTEND;TZID=Europe/Berlin:20261114T200000
DTSTAMP:20260422T100148
CREATED:20260120T140748Z
LAST-MODIFIED:20260126T133710Z
UID:1287-1794672000-1794686400@ksk-surberg.de
SUMMARY:Vereinsmeisterschaft Kleinkaliber
DESCRIPTION:Vereinsmeisterschaft 2026 der KSK Surberg im Kleinkaliberschießen auf 100m\nAuch dieses Jahr veranstalten wir wieder unsere traditionelle Vereinsmeisterschaft im Kleinkaliberschießen.\nWir laden alle Mitglieder herzlich ein\, ihr Können unter Beweis zu stellen und einen geselligen Nachmittag auf dem Schießstand „Langmoos“ in Hufschlag zu verbringen. \nSamstag\, 14.11.2026 von 16:00 Uhr bis 20:00 Uhr auf dem Schießstand „Langmoos“ der SG Hubertus in Hufschlag \nDie offizielle Siegerehrung findet im Rahmen unserer Jahreshauptversammlung 2026 am 15.11.2026 im Wirtshaus Lauter statt. \nWir freuen uns auf eine rege Teilnahme! \n\nWie in der letzten Jahreshauptversammlung beschlossen\, erheben wir diesmal wieder eine Teilnahmegebühr von 5\,- EUR für Stand\, Munition und Versicherung
URL:https://ksk-surberg.de/termin/vereinsmeisterschaft-kleinkaliber-2026/
LOCATION:Schießstand „Langmoos“ der SG Hubertus Hufschlag\, Langmoos 20\, Traunstein\, 83278
CATEGORIES:Wettkampf
ATTACH;FMTTYPE=image/png:https://ksk-surberg.de/wp-content/uploads/2024/06/KSK_Wappen_sw_blass_100px.png
ORGANIZER;CN="KSK Surberg":MAILTO:info@ksk-surberg.de
END:VEVENT
END:VCALENDAR