BEGIN:VCALENDAR
VERSION:2.0
PRODID:-//KSK Surberg - ECPv6.15.20//NONSGML v1.0//EN
CALSCALE:GREGORIAN
METHOD:PUBLISH
X-ORIGINAL-URL:https://ksk-surberg.de
X-WR-CALDESC:Veranstaltungen für KSK Surberg
REFRESH-INTERVAL;VALUE=DURATION:PT1H
X-Robots-Tag:noindex
X-PUBLISHED-TTL:PT1H
BEGIN:VTIMEZONE
TZID:Europe/Berlin
BEGIN:DAYLIGHT
TZOFFSETFROM:+0100
TZOFFSETTO:+0200
TZNAME:CEST
DTSTART:20230326T010000
END:DAYLIGHT
BEGIN:STANDARD
TZOFFSETFROM:+0200
TZOFFSETTO:+0100
TZNAME:CET
DTSTART:20231029T010000
END:STANDARD
BEGIN:DAYLIGHT
TZOFFSETFROM:+0100
TZOFFSETTO:+0200
TZNAME:CEST
DTSTART:20240331T010000
END:DAYLIGHT
BEGIN:STANDARD
TZOFFSETFROM:+0200
TZOFFSETTO:+0100
TZNAME:CET
DTSTART:20241027T010000
END:STANDARD
BEGIN:DAYLIGHT
TZOFFSETFROM:+0100
TZOFFSETTO:+0200
TZNAME:CEST
DTSTART:20250330T010000
END:DAYLIGHT
BEGIN:STANDARD
TZOFFSETFROM:+0200
TZOFFSETTO:+0100
TZNAME:CET
DTSTART:20251026T010000
END:STANDARD
END:VTIMEZONE
BEGIN:VEVENT
DTSTART;TZID=Europe/Berlin:20241109T160000
DTEND;TZID=Europe/Berlin:20241109T200000
DTSTAMP:20260423T022157
CREATED:20240516T161218Z
LAST-MODIFIED:20241018T141140Z
UID:462-1731168000-1731182400@ksk-surberg.de
SUMMARY:Vereinsmeisterschaft Kleinkaliber 2024
DESCRIPTION:Vereinsmeisterschaft Kleinkaliber 2024\nAuch dieses Jahr veranstalten wir wieder eine Vereinsmeisterschaft im Kleinkaliberschießen. \nSamstag\, 09.11.2024 von 16:00 Uhr bis 20:00 Uhr auf dem Schießstand „Langmoos“ der SG Hubertus in Hufschlag \nDie Siegerehrung findet im Rahmen der Jahreshauptversammlung 2024 am 17.11.2024 im Wirtshaus Lauter statt.
URL:https://ksk-surberg.de/termin/vereinsmeisterschaft-kleinkaliber-2024/
LOCATION:Schießstand „Langmoos“ der SG Hubertus Hufschlag\, Langmoos 20\, Traunstein\, 83278
CATEGORIES:Wettkampf
ATTACH;FMTTYPE=image/png:https://ksk-surberg.de/wp-content/uploads/2024/06/KSK_Wappen_sw_blass_100px.png
ORGANIZER;CN="KSK Surberg":MAILTO:info@ksk-surberg.de
END:VEVENT
END:VCALENDAR