BEGIN:VCALENDAR
VERSION:2.0
PRODID:-//KSK Surberg - ECPv6.15.20//NONSGML v1.0//EN
CALSCALE:GREGORIAN
METHOD:PUBLISH
X-WR-CALNAME:KSK Surberg
X-ORIGINAL-URL:https://ksk-surberg.de
X-WR-CALDESC:Veranstaltungen für KSK Surberg
REFRESH-INTERVAL;VALUE=DURATION:PT1H
X-Robots-Tag:noindex
X-PUBLISHED-TTL:PT1H
BEGIN:VTIMEZONE
TZID:Europe/Berlin
BEGIN:DAYLIGHT
TZOFFSETFROM:+0100
TZOFFSETTO:+0200
TZNAME:CEST
DTSTART:20250330T010000
END:DAYLIGHT
BEGIN:STANDARD
TZOFFSETFROM:+0200
TZOFFSETTO:+0100
TZNAME:CET
DTSTART:20251026T010000
END:STANDARD
BEGIN:DAYLIGHT
TZOFFSETFROM:+0100
TZOFFSETTO:+0200
TZNAME:CEST
DTSTART:20260329T010000
END:DAYLIGHT
BEGIN:STANDARD
TZOFFSETFROM:+0200
TZOFFSETTO:+0100
TZNAME:CET
DTSTART:20261025T010000
END:STANDARD
BEGIN:DAYLIGHT
TZOFFSETFROM:+0100
TZOFFSETTO:+0200
TZNAME:CEST
DTSTART:20270328T010000
END:DAYLIGHT
BEGIN:STANDARD
TZOFFSETFROM:+0200
TZOFFSETTO:+0100
TZNAME:CET
DTSTART:20271031T010000
END:STANDARD
END:VTIMEZONE
BEGIN:VEVENT
DTSTART;TZID=Europe/Berlin:20261114T160000
DTEND;TZID=Europe/Berlin:20261114T200000
DTSTAMP:20260421T161131
CREATED:20260120T140748Z
LAST-MODIFIED:20260126T133710Z
UID:1287-1794672000-1794686400@ksk-surberg.de
SUMMARY:Vereinsmeisterschaft Kleinkaliber
DESCRIPTION:Vereinsmeisterschaft 2026 der KSK Surberg im Kleinkaliberschießen auf 100m\nAuch dieses Jahr veranstalten wir wieder unsere traditionelle Vereinsmeisterschaft im Kleinkaliberschießen.\nWir laden alle Mitglieder herzlich ein\, ihr Können unter Beweis zu stellen und einen geselligen Nachmittag auf dem Schießstand „Langmoos“ in Hufschlag zu verbringen. \nSamstag\, 14.11.2026 von 16:00 Uhr bis 20:00 Uhr auf dem Schießstand „Langmoos“ der SG Hubertus in Hufschlag \nDie offizielle Siegerehrung findet im Rahmen unserer Jahreshauptversammlung 2026 am 15.11.2026 im Wirtshaus Lauter statt. \nWir freuen uns auf eine rege Teilnahme! \n\nWie in der letzten Jahreshauptversammlung beschlossen\, erheben wir diesmal wieder eine Teilnahmegebühr von 5\,- EUR für Stand\, Munition und Versicherung
URL:https://ksk-surberg.de/termin/vereinsmeisterschaft-kleinkaliber-2026/
LOCATION:Schießstand „Langmoos“ der SG Hubertus Hufschlag\, Langmoos 20\, Traunstein\, 83278
CATEGORIES:Wettkampf
ATTACH;FMTTYPE=image/png:https://ksk-surberg.de/wp-content/uploads/2024/06/KSK_Wappen_sw_blass_100px.png
ORGANIZER;CN="KSK Surberg":MAILTO:info@ksk-surberg.de
END:VEVENT
BEGIN:VEVENT
DTSTART;TZID=Europe/Berlin:20261114T164500
DTEND;TZID=Europe/Berlin:20261114T164500
DTSTAMP:20260421T161131
CREATED:20260120T122507Z
LAST-MODIFIED:20260120T122507Z
UID:1285-1794674700-1794674700@ksk-surberg.de
SUMMARY:Gedenkfeier "Hohes Kreuz"
DESCRIPTION:Gedenkfeier „Hohes Kreuz“ 2026\nDas Kreisverbindungskommando Traunstein der Bundeswehr lädt zur traditionellen Gedenkfeier am Vorabend des Volkstrauertags am Kriegsfriedhof „Hohes Kreuz“ gemeinsam mit den Traunsteiner und Surberger Ortsvereinen. \nSamstag\, 14.11.2026 um 16:45 Uhr am Soldatenfriedhof „Hohes Kreuz“ (Beginn der Feier 17:00 Uhr) \nMehr Infos folgen!
URL:https://ksk-surberg.de/termin/gedenkfeier-hohes-kreuz-2026/
LOCATION:Kriegsgräberstätte „Hohes Kreuz“\, Hochkreuzstraße\, Surberg / Hallabruck\, 83362
CATEGORIES:Andacht
ATTACH;FMTTYPE=image/jpeg:https://ksk-surberg.de/wp-content/uploads/2025/10/Gedenkfeier_Hohes_Kreuz.jpg
END:VEVENT
BEGIN:VEVENT
DTSTART;TZID=Europe/Berlin:20261115T103000
DTEND;TZID=Europe/Berlin:20261115T103000
DTSTAMP:20260421T161131
CREATED:20260120T141722Z
LAST-MODIFIED:20260120T141800Z
UID:1297-1794738600-1794738600@ksk-surberg.de
SUMMARY:Jahreshauptversammlung der KSK Surberg
DESCRIPTION:Jahreshauptversammlung 2026 der KSK Surberg\nSonntag\, 15.11.2026 um 10:30 Uhr im Wirtshaus Lauter\numrahmt von der Musikkapelle Surtal-Lauter \nTagesordnung: \n\nBegrüßung\nTotengedenken\nBericht des Schriftführers\nBericht des Kassiers\nEntlastung der Vorstandschaft\nJahresbericht des Vorstandes\nEhrungen\nSiegerehrung Vereinsmeisterschaft\nWünsche und Anträge
URL:https://ksk-surberg.de/termin/jahreshauptversammlung-2026/
LOCATION:Wirtshaus Lauter\, Römerstraße 3\, Surberg / Lauter\, 83362
CATEGORIES:Versammlung
ATTACH;FMTTYPE=image/png:https://ksk-surberg.de/wp-content/uploads/2024/06/KSK_Wappen_sw_blass_100px.png
ORGANIZER;CN="KSK Surberg":MAILTO:info@ksk-surberg.de
END:VEVENT
END:VCALENDAR